BEGIN:VCALENDAR
VERSION:2.0
PRODID:-//La Melting Coop Villeurbanne - ECPv6.15.11//NONSGML v1.0//EN
CALSCALE:GREGORIAN
METHOD:PUBLISH
X-ORIGINAL-URL:https://www.demainsupermarche.org
X-WR-CALDESC:Évènements pour La Melting Coop Villeurbanne
REFRESH-INTERVAL;VALUE=DURATION:PT1H
X-Robots-Tag:noindex
X-PUBLISHED-TTL:PT1H
BEGIN:VTIMEZONE
TZID:Europe/Paris
BEGIN:DAYLIGHT
TZOFFSETFROM:+0100
TZOFFSETTO:+0200
TZNAME:CEST
DTSTART:20240331T010000
END:DAYLIGHT
BEGIN:STANDARD
TZOFFSETFROM:+0200
TZOFFSETTO:+0100
TZNAME:CET
DTSTART:20241027T010000
END:STANDARD
BEGIN:DAYLIGHT
TZOFFSETFROM:+0100
TZOFFSETTO:+0200
TZNAME:CEST
DTSTART:20250330T010000
END:DAYLIGHT
BEGIN:STANDARD
TZOFFSETFROM:+0200
TZOFFSETTO:+0100
TZNAME:CET
DTSTART:20251026T010000
END:STANDARD
BEGIN:DAYLIGHT
TZOFFSETFROM:+0100
TZOFFSETTO:+0200
TZNAME:CEST
DTSTART:20260329T010000
END:DAYLIGHT
BEGIN:STANDARD
TZOFFSETFROM:+0200
TZOFFSETTO:+0100
TZNAME:CET
DTSTART:20261025T010000
END:STANDARD
END:VTIMEZONE
BEGIN:VEVENT
DTSTART;TZID=Europe/Paris:20251211T190000
DTEND;TZID=Europe/Paris:20251211T220000
DTSTAMP:20260421T122154
CREATED:20251111T105532Z
LAST-MODIFIED:20251202T124235Z
UID:10757-1765479600-1765490400@www.demainsupermarche.org
SUMMARY:C'est JeuxDi\, et ça signe ! Jeu de la Monnaie avec La Gonette
DESCRIPTION:Jeux de cartes\, de plateau\, jeux de rôle\, jeux drôles\, tu es toujours de la partie ? \nCe rendez-vous mensuel est fait pour toi ! \nAu programme : des tablées de jeux de société 🎲🃏 à faire ensemble et une carte de boissons issues de nos meilleurs fournisseurs locaux 🍻🍴. \nPour cette édition\, viens tester le “Jeu de la Monnaie” pour mieux comprendre différents systèmes d’échange économique avec un simple jeu de cartes (durée : 2h). En partenariat avec La Gonette\, notre monnaie locale. \nEntendant·e·s et sourd·e·s\, nous vous attendons nombreux·ses pour cette soirée animée par Judicaël et Michael\, accompagnés de Zoé pour la LSF ! \nInscription conseillée – Participation libre et consciente – Adhésion 2025 \nContact Judicaël : lmc.progcafe@gmail.com
URL:https://www.demainsupermarche.org/evenement/cest-jeuxdi-et-ca-signe-2025-12-11/
LOCATION:Café de La Melting Coop\, 229 cours Emile Zola\, Villeurbanne\, 69100\, France
CATEGORIES:Rencontre
ATTACH;FMTTYPE=image/png:https://www.demainsupermarche.org/wp-content/uploads/2025/09/banner-jeuxDi1600.png
END:VEVENT
BEGIN:VEVENT
DTSTART;TZID=Europe/Paris:20251214T110000
DTEND;TZID=Europe/Paris:20251214T180000
DTSTAMP:20260421T122154
CREATED:20251201T123618Z
LAST-MODIFIED:20251201T123618Z
UID:10824-1765710000-1765735200@www.demainsupermarche.org
SUMMARY:Troc de jouets et livres | Noël au Gratte-ciel
DESCRIPTION:Dans le cadre du marché de Noël\, à l’invitation de la mairie de Villeurbanne\, l’association proposera un troc de livres et jouets dimanche 14 décembre\, avenue Henri Barbusse. \nLe troc de jouets\, c’est une autre manière de consommer et de partager des jeux. Les enfants\, accompagnés de leurs parents\, viennent avec des jouets\, jeux et/ou livres qu’ils ont aimés\, en bon état et qu’ils n’utilisent plus et repartent avec le ou les objet(s) de leur choix en échange. \nN’hésite pas à partager l’info autour de toi !
URL:https://www.demainsupermarche.org/evenement/troc-de-jouets-et-livres-noel-au-gratte-ciel/
LOCATION:Noël aux Gratte-Ciel\, Avenue Henri Barbusse\, Villeurbanne\, 69100
CATEGORIES:Jeunesse
ATTACH;FMTTYPE=image/png:https://www.demainsupermarche.org/wp-content/uploads/2025/12/2025.12.14_noel_gratte_ciel_troc_1600.png
END:VEVENT
END:VCALENDAR