BEGIN:VCALENDAR
VERSION:2.0
PRODID:-//La Melting Coop Villeurbanne - ECPv6.15.11//NONSGML v1.0//EN
CALSCALE:GREGORIAN
METHOD:PUBLISH
X-WR-CALNAME:La Melting Coop Villeurbanne
X-ORIGINAL-URL:https://www.demainsupermarche.org
X-WR-CALDESC:Évènements pour La Melting Coop Villeurbanne
REFRESH-INTERVAL;VALUE=DURATION:PT1H
X-Robots-Tag:noindex
X-PUBLISHED-TTL:PT1H
BEGIN:VTIMEZONE
TZID:Europe/Paris
BEGIN:DAYLIGHT
TZOFFSETFROM:+0100
TZOFFSETTO:+0200
TZNAME:CEST
DTSTART:20240331T010000
END:DAYLIGHT
BEGIN:STANDARD
TZOFFSETFROM:+0200
TZOFFSETTO:+0100
TZNAME:CET
DTSTART:20241027T010000
END:STANDARD
BEGIN:DAYLIGHT
TZOFFSETFROM:+0100
TZOFFSETTO:+0200
TZNAME:CEST
DTSTART:20250330T010000
END:DAYLIGHT
BEGIN:STANDARD
TZOFFSETFROM:+0200
TZOFFSETTO:+0100
TZNAME:CET
DTSTART:20251026T010000
END:STANDARD
BEGIN:DAYLIGHT
TZOFFSETFROM:+0100
TZOFFSETTO:+0200
TZNAME:CEST
DTSTART:20260329T010000
END:DAYLIGHT
BEGIN:STANDARD
TZOFFSETFROM:+0200
TZOFFSETTO:+0100
TZNAME:CET
DTSTART:20261025T010000
END:STANDARD
END:VTIMEZONE
BEGIN:VEVENT
DTSTART;TZID=Europe/Paris:20251003T200000
DTEND;TZID=Europe/Paris:20251003T220000
DTSTAMP:20260420T071209
CREATED:20250920T093157Z
LAST-MODIFIED:20251002T180658Z
UID:10544-1759521600-1759528800@www.demainsupermarche.org
SUMMARY:Concert Luna Blue
DESCRIPTION:Un duo piano-voix intimiste et chaleureux où la chanson se mêle au jazz. \nLuna Blue et Jérémy Cohen s’associent le temps d’une soirée pour vous faire découvrir leur goût du jeu et de l’improvisation au travers de grands classiques du jazz\, mais aussi de quelques compositions originales multi genres\, où se dévoile une poésie douce et authentique. \nParticipation au chapeau \nContact Maxime : lmc.progcafe@gmail.com
URL:https://www.demainsupermarche.org/evenement/concert-luna-blue-2025-10-03/
LOCATION:Café de La Melting Coop\, 229 cours Emile Zola\, Villeurbanne\, 69100\, France
CATEGORIES:Musique,Spectacle
ATTACH;FMTTYPE=image/png:https://www.demainsupermarche.org/wp-content/uploads/2025/09/Banner-concert-luna-blue1600.png
END:VEVENT
END:VCALENDAR