BEGIN:VCALENDAR
VERSION:2.0
PRODID:-//La Melting Coop Villeurbanne - ECPv6.15.11//NONSGML v1.0//EN
CALSCALE:GREGORIAN
METHOD:PUBLISH
X-ORIGINAL-URL:https://www.demainsupermarche.org
X-WR-CALDESC:Évènements pour La Melting Coop Villeurbanne
REFRESH-INTERVAL;VALUE=DURATION:PT1H
X-Robots-Tag:noindex
X-PUBLISHED-TTL:PT1H
BEGIN:VTIMEZONE
TZID:Europe/Paris
BEGIN:DAYLIGHT
TZOFFSETFROM:+0100
TZOFFSETTO:+0200
TZNAME:CEST
DTSTART:20240331T010000
END:DAYLIGHT
BEGIN:STANDARD
TZOFFSETFROM:+0200
TZOFFSETTO:+0100
TZNAME:CET
DTSTART:20241027T010000
END:STANDARD
BEGIN:DAYLIGHT
TZOFFSETFROM:+0100
TZOFFSETTO:+0200
TZNAME:CEST
DTSTART:20250330T010000
END:DAYLIGHT
BEGIN:STANDARD
TZOFFSETFROM:+0200
TZOFFSETTO:+0100
TZNAME:CET
DTSTART:20251026T010000
END:STANDARD
BEGIN:DAYLIGHT
TZOFFSETFROM:+0100
TZOFFSETTO:+0200
TZNAME:CEST
DTSTART:20260329T010000
END:DAYLIGHT
BEGIN:STANDARD
TZOFFSETFROM:+0200
TZOFFSETTO:+0100
TZNAME:CET
DTSTART:20261025T010000
END:STANDARD
END:VTIMEZONE
BEGIN:VEVENT
DTSTART;TZID=Europe/Paris:20251018T100000
DTEND;TZID=Europe/Paris:20251018T120000
DTSTAMP:20260421T210414
CREATED:20251001T130442Z
LAST-MODIFIED:20251007T153814Z
UID:10597-1760781600-1760788800@www.demainsupermarche.org
SUMMARY:Quizz et animations autour de l'alimentation
DESCRIPTION:Dans le cadre du MIAM Festival la Coop organise un RDV grand public au Café avec des animations interactives autour de l’alimentation et de la nutrition ouvertes à toutes et tous\, animées par Vincent. \nAnimations ludiques pour les plus jeunes (de 7 à 12 ans). \nContact : Sarah lmc.progcafe@gmail.com
URL:https://www.demainsupermarche.org/evenement/quizz-de-sensibilisation-autour-de-lalimentation-2025-10-18/
LOCATION:Café de La Melting Coop\, 229 cours Emile Zola\, Villeurbanne\, 69100\, France
CATEGORIES:Rencontre
ATTACH;FMTTYPE=image/png:https://www.demainsupermarche.org/wp-content/uploads/2025/10/banner-miamfestival-1600v2.png
END:VEVENT
BEGIN:VEVENT
DTSTART;TZID=Europe/Paris:20251025T100000
DTEND;TZID=Europe/Paris:20251025T120000
DTSTAMP:20260421T210414
CREATED:20251001T130758Z
LAST-MODIFIED:20251007T153625Z
UID:10600-1761386400-1761393600@www.demainsupermarche.org
SUMMARY:Quizz et animations autour de l'alimentation
DESCRIPTION:Dans le cadre du MIAM Festival la Coop organise un RDV grand public au Café avec des animations interactives autour de l’alimentation et de la nutrition ouvertes à toutes et tous\, animées par Vincent. \nAnimations ludiques pour les plus jeunes (de 7 à 12 ans). \nContact : Sarah lmc.progcafe@gmail.com
URL:https://www.demainsupermarche.org/evenement/quizz-autour-de-lalimentation-2025-10-25/
LOCATION:Café de La Melting Coop\, 229 cours Emile Zola\, Villeurbanne\, 69100\, France
CATEGORIES:Rencontre
ATTACH;FMTTYPE=image/png:https://www.demainsupermarche.org/wp-content/uploads/2025/10/banner-miamfestival-1600v2.png
END:VEVENT
END:VCALENDAR